﻿BEGIN:VCALENDAR
VERSION:2.0
PRODID:-//elisiario.com - ECPv6.15.20//NONSGML v1.0//EN
CALSCALE:GREGORIAN
METHOD:PUBLISH
X-ORIGINAL-URL:https://elisiario.com/en/
X-WR-CALDESC:Events for elisiario.com
REFRESH-INTERVAL;VALUE=DURATION:PT1H
X-Robots-Tag:noindex
X-PUBLISHED-TTL:PT1H
BEGIN:VTIMEZONE
TZID:UTC
BEGIN:STANDARD
TZOFFSETFROM:+0000
TZOFFSETTO:+0000
TZNAME:UTC
DTSTART:20190101T000000
END:STANDARD
END:VTIMEZONE
BEGIN:VEVENT
DTSTART;TZID=UTC:20200212T130000
DTEND;TZID=UTC:20200216T200000
DTSTAMP:20260421T150411
CREATED:20200131T173704Z
LAST-MODIFIED:20200202T165618Z
UID:3021-1581512400-1581883200@elisiario.com
SUMMARY:Nauticampo 2020
DESCRIPTION:Come and visit us at the Seixal City Hall exhibition space between the 12th to the 16th of February.
URL:https://elisiario.com/en/event/nauticampo-2020/
LOCATION:Feira Internacional de Lisboa\, R. do Bojador\, Lisboa\, Lisboa\, 1998-010
CATEGORIES:Feiras e exposições
ATTACH;FMTTYPE=image/png:https://elisiario.com/wp-content/uploads/2020/01/Montagem-nauticampo-2020_1.png
END:VEVENT
END:VCALENDAR